BEGIN:VCALENDAR
VERSION:2.0
PRODID:-//YC&amp;AC - YOKOHAMA COUNTRY &amp; ATHLETIC CLUB - ECPv6.15.20//NONSGML v1.0//EN
CALSCALE:GREGORIAN
METHOD:PUBLISH
X-WR-CALNAME:YC&amp;AC - YOKOHAMA COUNTRY &amp; ATHLETIC CLUB
X-ORIGINAL-URL:https://ycac.jp
X-WR-CALDESC:Events for YC&amp;AC - YOKOHAMA COUNTRY &amp; ATHLETIC CLUB
REFRESH-INTERVAL;VALUE=DURATION:PT1H
X-Robots-Tag:noindex
X-PUBLISHED-TTL:PT1H
BEGIN:VTIMEZONE
TZID:Asia/Tokyo
BEGIN:STANDARD
TZOFFSETFROM:+0900
TZOFFSETTO:+0900
TZNAME:JST
DTSTART:20250101T000000
END:STANDARD
END:VTIMEZONE
BEGIN:VEVENT
DTSTART;TZID=Asia/Tokyo:20260228T180000
DTEND;TZID=Asia/Tokyo:20260228T180000
DTSTAMP:20260424T082419
CREATED:20260209T051648Z
LAST-MODIFIED:20260215T080513Z
UID:10000048-1772301600-1772301600@ycac.jp
SUMMARY:Bingo Night
DESCRIPTION:Join us for a day of fun and fabulous prizes!\n \nGet ready for an exciting Bingo games open to all members and guests!\nDon’t miss this perfect opportunity to connect with others\, enjoy some friendly competition.
URL:https://ycac.jp/event/bingo-night
LOCATION:YC&AC\, 11-1 Yaguchidai\, Naka-ku\, Yokohama\, Kanagawa\, 231-0831\, Japan
CATEGORIES:Club Events
ATTACH;FMTTYPE=image/jpeg:https://ycac.jp/wp-content/uploads/2025/10/Bingo-Night-Banner.jpg
END:VEVENT
END:VCALENDAR