BEGIN:VCALENDAR
VERSION:2.0
PRODID:-//YC&amp;AC - YOKOHAMA COUNTRY &amp; ATHLETIC CLUB - ECPv6.15.20//NONSGML v1.0//EN
CALSCALE:GREGORIAN
METHOD:PUBLISH
X-WR-CALNAME:YC&amp;AC - YOKOHAMA COUNTRY &amp; ATHLETIC CLUB
X-ORIGINAL-URL:https://ycac.jp
X-WR-CALDESC:Events for YC&amp;AC - YOKOHAMA COUNTRY &amp; ATHLETIC CLUB
REFRESH-INTERVAL;VALUE=DURATION:PT1H
X-Robots-Tag:noindex
X-PUBLISHED-TTL:PT1H
BEGIN:VTIMEZONE
TZID:Asia/Tokyo
BEGIN:STANDARD
TZOFFSETFROM:+0900
TZOFFSETTO:+0900
TZNAME:JST
DTSTART:20240101T000000
END:STANDARD
END:VTIMEZONE
BEGIN:VEVENT
DTSTART;TZID=Asia/Tokyo:20251213T170000
DTEND;TZID=Asia/Tokyo:20251213T170000
DTSTAMP:20260424T125044
CREATED:20251122T055745Z
LAST-MODIFIED:20251212T081557Z
UID:10000070-1765645200-1765645200@ycac.jp
SUMMARY:Santa Is Coming To YC&AC!
DESCRIPTION:Join us for a cozy\, festive evening as we welcome Santa Claus to the Club! Bring your family and enjoy a warm holiday celebration. \nBUFFET RESERVATION CLOSED \nName *Email Address *Phone *Please Select *YC&AC MemberGuestPlease enter your YC&AC Membership number below *0 / 6Number of Adults1 Person2 People3 People4 People5 PeopleNumber of Children1 Child2 Children3 Children4 Children5 ChildrenGuest - Number of people in your groupAdultChildrenNumber of Adults1 Person2 People3 People4 People5 PeopleNumber of Children1 Child2 Children3 Children4 Children5 ChildrenTotal¥Credit Card Information *Online Payment will be done through Stripe.SUBMIT FORM
URL:https://ycac.jp/event/santa-is-coming-to-ycac
CATEGORIES:Club Events
END:VEVENT
END:VCALENDAR