BEGIN:VCALENDAR
VERSION:2.0
PRODID:-//YC&amp;AC - YOKOHAMA COUNTRY &amp; ATHLETIC CLUB - ECPv6.15.20//NONSGML v1.0//EN
CALSCALE:GREGORIAN
METHOD:PUBLISH
X-WR-CALNAME:YC&amp;AC - YOKOHAMA COUNTRY &amp; ATHLETIC CLUB
X-ORIGINAL-URL:https://ycac.jp
X-WR-CALDESC:Events for YC&amp;AC - YOKOHAMA COUNTRY &amp; ATHLETIC CLUB
REFRESH-INTERVAL;VALUE=DURATION:PT1H
X-Robots-Tag:noindex
X-PUBLISHED-TTL:PT1H
BEGIN:VTIMEZONE
TZID:Asia/Tokyo
BEGIN:STANDARD
TZOFFSETFROM:+0900
TZOFFSETTO:+0900
TZNAME:JST
DTSTART:20230101T000000
END:STANDARD
END:VTIMEZONE
BEGIN:VEVENT
DTSTART;TZID=Asia/Tokyo:20241225T113000
DTEND;TZID=Asia/Tokyo:20241225T113000
DTSTAMP:20260425T085906
CREATED:20241211T031943Z
LAST-MODIFIED:20250111T045523Z
UID:10000042-1735126200-1735126200@ycac.jp
SUMMARY:Club Raffle 2024
DESCRIPTION:Join us this Christmas for our annual Members Club Raffle at Mollison’s! \nDate: 25th December\nTime: 11:30 AM\nVenue: Mollison’s \nEnjoy complimentary eggnog (adult and kid-friendly versions available) as you participate in the exciting raffle. \nSpecial draws will be held for those in attendance\, and additional tickets will be available for purchase on the day. \nDon’t miss the chance to win fabulous prizes!\n \nThis is a members-only event. \n 
URL:https://ycac.jp/event/club-raffle-2024
CATEGORIES:Club Events
END:VEVENT
END:VCALENDAR