BEGIN:VCALENDAR
VERSION:2.0
PRODID:-//YC&amp;AC - YOKOHAMA COUNTRY &amp; ATHLETIC CLUB - ECPv6.15.20//NONSGML v1.0//EN
CALSCALE:GREGORIAN
METHOD:PUBLISH
X-WR-CALNAME:YC&amp;AC - YOKOHAMA COUNTRY &amp; ATHLETIC CLUB
X-ORIGINAL-URL:https://ycac.jp
X-WR-CALDESC:Events for YC&amp;AC - YOKOHAMA COUNTRY &amp; ATHLETIC CLUB
REFRESH-INTERVAL;VALUE=DURATION:PT1H
X-Robots-Tag:noindex
X-PUBLISHED-TTL:PT1H
BEGIN:VTIMEZONE
TZID:Asia/Tokyo
BEGIN:STANDARD
TZOFFSETFROM:+0900
TZOFFSETTO:+0900
TZNAME:JST
DTSTART:20230101T000000
END:STANDARD
END:VTIMEZONE
BEGIN:VEVENT
DTSTART;TZID=Asia/Tokyo:20241018T190000
DTEND;TZID=Asia/Tokyo:20241018T190000
DTSTAMP:20260425T123106
CREATED:20241004T010021Z
LAST-MODIFIED:20260222T051847Z
UID:10000036-1729278000-1729278000@ycac.jp
SUMMARY:A Night On Broadway
DESCRIPTION:There is no business like show business!  \nCome along for a relaxed evening of live music\, featuring songs from musicals such as “Mamma Mia”\, “Dream Girls”\, “Legally Blonde”\, and “Frozen 2”. \nThe evening will be performed by musical theatre actors Valerie Aurelia and Marie Buda and will feature a special guest visiting from the United Kingdom: Michael Broom. \nProfessional pianist Yuri Ishiguro will accompany. This is a love letter from the four of them to Broadway. \nDetails: \n“A Night on Broadway” \nVenue: Yokohama Country and Athletics Club (YC&AC)\, 2nd Floor\, MP Room \nTime: Doors open 7 pm\, show begins 7:15 pm \nYC&AC members: Free \nNon-members: 2\,000 yen (cash on door) \nGuests are welcome to buy drinks and snacks from the bar downstairs and bring them up.
URL:https://ycac.jp/event/a-night-on-broadway
CATEGORIES:Club Events
ATTACH;FMTTYPE=image/jpeg:https://ycac.jp/wp-content/uploads/2024/08/placeholder.jpg
END:VEVENT
END:VCALENDAR