BEGIN:VCALENDAR
VERSION:2.0
PRODID:-//YC&amp;AC - YOKOHAMA COUNTRY &amp; ATHLETIC CLUB - ECPv6.15.20//NONSGML v1.0//EN
CALSCALE:GREGORIAN
METHOD:PUBLISH
X-ORIGINAL-URL:https://ycac.jp
X-WR-CALDESC:Events for YC&amp;AC - YOKOHAMA COUNTRY &amp; ATHLETIC CLUB
REFRESH-INTERVAL;VALUE=DURATION:PT1H
X-Robots-Tag:noindex
X-PUBLISHED-TTL:PT1H
BEGIN:VTIMEZONE
TZID:Asia/Tokyo
BEGIN:STANDARD
TZOFFSETFROM:+0900
TZOFFSETTO:+0900
TZNAME:JST
DTSTART:20240101T000000
END:STANDARD
END:VTIMEZONE
BEGIN:VEVENT
DTSTART;TZID=Asia/Tokyo:20251115T140000
DTEND;TZID=Asia/Tokyo:20251115T140000
DTSTAMP:20260424T105753
CREATED:20251024T085103Z
LAST-MODIFIED:20251112T061621Z
UID:10000067-1763215200-1763215200@ycac.jp
SUMMARY:Winter Oasis Pool Bash
DESCRIPTION:  \nJoin us poolside for an afternoon of fun and an evening of rhythm. Games begin at 2PM. As the sun sets\, the music takes over — and the night begins under the stars.\nFun for all ages! \n\nHot Pools & Fire Pits – Experience the hot pools by the water or take a dip in the pool!\nBBQ Feast – Enjoy freshly grilled favorites and winter treats. Melted Marshmallows!!\nMusic\, Games & Pool Contests – Join our “Boat Wars\,” “Dare to Dive” challenges\, and family games throughout the afternoon.\n\n  \nPOSTPONED UNTIL JANUARY.\n\n 
URL:https://ycac.jp/event/winter-oasis-pool-bash
CATEGORIES:Club Events
ATTACH;FMTTYPE=image/jpeg:https://ycac.jp/wp-content/uploads/2025/04/Pool-Party_Nov-15-Banner-web.jpg
END:VEVENT
BEGIN:VEVENT
DTSTART;TZID=Asia/Tokyo:20251127T183000
DTEND;TZID=Asia/Tokyo:20251127T220000
DTSTAMP:20260424T105753
CREATED:20240913T033540Z
LAST-MODIFIED:20251126T005219Z
UID:10000034-1764268200-1764280800@ycac.jp
SUMMARY:Thanksgiving Dinner
DESCRIPTION:Celebrate Your Thanksgiving With Us At The Club!\n  \n\nDINNER BUFFET & OPEN BAR\nDelight in a carefully curated Thanksgiving buffet\, featuring seasonal favorites and chef’s specialities.\n\n  \n\nFESTIVE LIVE MUSIC\nImmerse yourself in the holiday spirit as live musicians fill the air with lively melodies and soulful tunes.\n\n \nReservations: To ensure a spot at this popular event\, please make your reservations by filling in the form below.\nWe look forward to celebrating Thanksgiving with you and creating cherished memories.\n \nMENU \nSorry registration for this event is now closed.
URL:https://ycac.jp/event/thanksgiving-dinner
CATEGORIES:Club Events
END:VEVENT
END:VCALENDAR