BEGIN:VCALENDAR
VERSION:2.0
PRODID:-//YC&amp;AC - YOKOHAMA COUNTRY &amp; ATHLETIC CLUB - ECPv6.15.20//NONSGML v1.0//EN
CALSCALE:GREGORIAN
METHOD:PUBLISH
X-ORIGINAL-URL:https://ycac.jp
X-WR-CALDESC:Events for YC&amp;AC - YOKOHAMA COUNTRY &amp; ATHLETIC CLUB
REFRESH-INTERVAL;VALUE=DURATION:PT1H
X-Robots-Tag:noindex
X-PUBLISHED-TTL:PT1H
BEGIN:VTIMEZONE
TZID:Asia/Tokyo
BEGIN:STANDARD
TZOFFSETFROM:+0900
TZOFFSETTO:+0900
TZNAME:JST
DTSTART:20240101T000000
END:STANDARD
END:VTIMEZONE
BEGIN:VEVENT
DTSTART;TZID=Asia/Tokyo:20250926T183000
DTEND;TZID=Asia/Tokyo:20250926T203000
DTSTAMP:20260424T142532
CREATED:20250820T063151Z
LAST-MODIFIED:20260222T052052Z
UID:10000063-1758911400-1758918600@ycac.jp
SUMMARY:Family Night
DESCRIPTION:Join us at Mollison’s for a special Family Night on Friday\, September 26\, from 6:30 pm to 8:30 pm. This evening is all about bringing families together in a warm and welcoming setting.\n \nEnjoy a relaxed dinner where you can order directly from Mollison’s menu\, featuring delicious options for both adults and kids. Whether you’re looking for a fun night out with the family\, a chance to enjoy good food without the stress of cooking\, or simply an opportunity to connect with other families in the community\, Family Night at Mollison’s is the perfect choice.\n \n👨‍👩‍👧‍👦 Children of all ages are welcome – making this event ideal for the whole family.\n \n📍 Location: Mollison’s Restaurant\n📅 Date: Friday\, September 26\n⏰ Time: 6:30 pm – 8:30 pm\n \nCome for the food\, stay for the family fun – we can’t wait to see you there!
URL:https://ycac.jp/event/family-night
CATEGORIES:Club Events
ATTACH;FMTTYPE=image/jpeg:https://ycac.jp/wp-content/uploads/2024/08/placeholder.jpg
END:VEVENT
END:VCALENDAR