BEGIN:VCALENDAR
VERSION:2.0
PRODID:-//YC&amp;AC - YOKOHAMA COUNTRY &amp; ATHLETIC CLUB - ECPv6.15.20//NONSGML v1.0//EN
CALSCALE:GREGORIAN
METHOD:PUBLISH
X-ORIGINAL-URL:https://ycac.jp
X-WR-CALDESC:Events for YC&amp;AC - YOKOHAMA COUNTRY &amp; ATHLETIC CLUB
REFRESH-INTERVAL;VALUE=DURATION:PT1H
X-Robots-Tag:noindex
X-PUBLISHED-TTL:PT1H
BEGIN:VTIMEZONE
TZID:Asia/Tokyo
BEGIN:STANDARD
TZOFFSETFROM:+0900
TZOFFSETTO:+0900
TZNAME:JST
DTSTART:20230101T000000
END:STANDARD
END:VTIMEZONE
BEGIN:VEVENT
DTSTART;TZID=Asia/Tokyo:20250315T190000
DTEND;TZID=Asia/Tokyo:20250315T190000
DTSTAMP:20260424T051746
CREATED:20250306T030217Z
LAST-MODIFIED:20250306T031005Z
UID:10000053-1742065200-1742065200@ycac.jp
SUMMARY:Live Irish Music
DESCRIPTION:Celebrate the spirit of Ireland with a night of live Irish music on March 15 at The Main Bar! Starting at 7 PM\, the talented Kozo Toyota Flat Quartet will take the stage\, delivering an energetic and soulful performance filled with traditional Irish tunes and uplifting melodies. Enjoy an evening of fantastic music\, great company\, and a warm\, inviting atmosphere. Tap your feet to the rhythm\, raise a glass\, and immerse yourself in the lively sounds of Ireland. Free entry—bring your friends and make it a night to remember! No reservation required.
URL:https://ycac.jp/event/live-irish-music
CATEGORIES:Club Events
END:VEVENT
BEGIN:VEVENT
DTSTART;TZID=Asia/Tokyo:20250308T180000
DTEND;TZID=Asia/Tokyo:20250308T180000
DTSTAMP:20260424T051746
CREATED:20250116T025637Z
LAST-MODIFIED:20250116T025755Z
UID:10000045-1741456800-1741456800@ycac.jp
SUMMARY:Live Music Disco Party Vol. 2
DESCRIPTION:Get ready to groove the night away at Disco Party Vol. 2! Featuring live music by Backakerz\, this event will transport you straight to the funky vibes of the disco era. Costumes encouraged! The band will be rocking their disco outfits\, and everyone is welcome to join in the fun by dressing up. No Cover Charge – just bring your dancing shoes and get ready for an evening of nonstop fun and great music. This event is open to all – No reservation required.
URL:https://ycac.jp/event/live-music-disco-party
CATEGORIES:Club Events
END:VEVENT
BEGIN:VEVENT
DTSTART;TZID=Asia/Tokyo:20250210T080000
DTEND;TZID=Asia/Tokyo:20250210T110000
DTSTAMP:20260424T051746
CREATED:20250123T051219Z
LAST-MODIFIED:20260222T052249Z
UID:10000047-1739174400-1739185200@ycac.jp
SUMMARY:Superbowl LIX Live
DESCRIPTION:Join Us for Superbowl LIX Live at the Members Bar!\nGet ready for the biggest football event of the year—Superbowl LIX! Catch all the action live on February 10 (Monday) at our Members Bar. Enjoy an exciting game-day atmosphere with drinks starting from 8:00 AM and delicious food available from 9:30 AM.\n\nThis event is open to everyone\, and no reservations are required. Whether you’re a die-hard football fan or just here for the fun\, come and make the most of Superbowl day with us!\n\nDetails at a glance:\nWhen: Monday\, February 10\nWhere: Members Bar\n\nWhat’s Available:\nDrink Service: From 8:00 AM\nFood Orders: From 9:30 AM\n\nDon’t miss out on the electrifying energy\, great company\, and everything you love about game day.
URL:https://ycac.jp/event/superbowl-lix-live
CATEGORIES:Club Events
END:VEVENT
BEGIN:VEVENT
DTSTART;TZID=Asia/Tokyo:20250125T120000
DTEND;TZID=Asia/Tokyo:20250125T120000
DTSTAMP:20260424T051747
CREATED:20250116T020034Z
LAST-MODIFIED:20250129T033015Z
UID:10000044-1737806400-1737806400@ycac.jp
SUMMARY:Australia Day
DESCRIPTION:Join us for an unforgettable Australia Day celebration that promises to be packed with fun\, flavor\, and fantastic memories! Kick off your day with a delicious BBQ lunch\, featuring a special menu coming soon—stay tuned for mouthwatering details. As you feast\, enjoy the relaxed and vibrant atmosphere of Mollison’s Terrace. Feel the energy of great conversations and laughs with friends\, while soaking in the lively vibes around you. It’s all about the good times – so come for the food\, stay for the fun\, and make this Australia Day one to remember! \nMenu\nNo reservation required.
URL:https://ycac.jp/event/australia-day
CATEGORIES:Club Events
END:VEVENT
BEGIN:VEVENT
DTSTART;TZID=Asia/Tokyo:20241225T113000
DTEND;TZID=Asia/Tokyo:20241225T113000
DTSTAMP:20260424T051747
CREATED:20241211T031943Z
LAST-MODIFIED:20250111T045523Z
UID:10000042-1735126200-1735126200@ycac.jp
SUMMARY:Club Raffle 2024
DESCRIPTION:Join us this Christmas for our annual Members Club Raffle at Mollison’s! \nDate: 25th December\nTime: 11:30 AM\nVenue: Mollison’s \nEnjoy complimentary eggnog (adult and kid-friendly versions available) as you participate in the exciting raffle. \nSpecial draws will be held for those in attendance\, and additional tickets will be available for purchase on the day. \nDon’t miss the chance to win fabulous prizes!\n \nThis is a members-only event. \n 
URL:https://ycac.jp/event/club-raffle-2024
CATEGORIES:Club Events
END:VEVENT
BEGIN:VEVENT
DTSTART;TZID=Asia/Tokyo:20241027T140000
DTEND;TZID=Asia/Tokyo:20241027T160000
DTSTAMP:20260424T051747
CREATED:20240913T021051Z
LAST-MODIFIED:20240913T021051Z
UID:10000033-1730037600-1730044800@ycac.jp
SUMMARY:Halloween Trick-or-Treat
DESCRIPTION:Get ready for a spooky day of fun! Join us for an afternoon filled with costumes and candy for all ages. \nNo cover charge and open to everyone—members\, guests and families alike. \nWhether you’re a little ghost\, a daring vampire\, or just a fan of Halloween fun! \nDate: October 27 (Sunday) \nTime: 2:00 PM to 5:00 PM \nLocation: YC&AC Clubhouse \nCostumes are encouraged\, so come dressed to impress and enjoy a memorable day of festive fun!
URL:https://ycac.jp/event/halloween-trick-or-treat
CATEGORIES:Club Events
END:VEVENT
BEGIN:VEVENT
DTSTART;TZID=Asia/Tokyo:20241018T190000
DTEND;TZID=Asia/Tokyo:20241018T190000
DTSTAMP:20260424T051747
CREATED:20241004T010021Z
LAST-MODIFIED:20260222T051847Z
UID:10000036-1729278000-1729278000@ycac.jp
SUMMARY:A Night On Broadway
DESCRIPTION:There is no business like show business!  \nCome along for a relaxed evening of live music\, featuring songs from musicals such as “Mamma Mia”\, “Dream Girls”\, “Legally Blonde”\, and “Frozen 2”. \nThe evening will be performed by musical theatre actors Valerie Aurelia and Marie Buda and will feature a special guest visiting from the United Kingdom: Michael Broom. \nProfessional pianist Yuri Ishiguro will accompany. This is a love letter from the four of them to Broadway. \nDetails: \n“A Night on Broadway” \nVenue: Yokohama Country and Athletics Club (YC&AC)\, 2nd Floor\, MP Room \nTime: Doors open 7 pm\, show begins 7:15 pm \nYC&AC members: Free \nNon-members: 2\,000 yen (cash on door) \nGuests are welcome to buy drinks and snacks from the bar downstairs and bring them up.
URL:https://ycac.jp/event/a-night-on-broadway
CATEGORIES:Club Events
ATTACH;FMTTYPE=image/jpeg:https://ycac.jp/wp-content/uploads/2024/08/placeholder.jpg
END:VEVENT
BEGIN:VEVENT
DTSTART;TZID=Asia/Tokyo:20240926T190000
DTEND;TZID=Asia/Tokyo:20240926T200000
DTSTAMP:20260424T051747
CREATED:20240828T055543Z
LAST-MODIFIED:20250113T053310Z
UID:10000031-1727377200-1727380800@ycac.jp
SUMMARY:Lowell Talk September 26
DESCRIPTION:To attend\, please complete the form below. Admission is free.\nFull Name *Email *Are you a member or a guest of the YCAC?MemberGuestPlease enter your YCAC Membership number below *0 / 6Number of people in your partyOne Person2 People3 People4 People5 People6 People7 People8 PeopleAdditional InformationSubmit
URL:https://ycac.jp/event/lowell-talk-sep-26
CATEGORIES:Club Events
ATTACH;FMTTYPE=image/jpeg:https://ycac.jp/wp-content/uploads/2024/08/placeholder.jpg
END:VEVENT
BEGIN:VEVENT
DTSTART;TZID=Asia/Tokyo:20240906T190000
DTEND;TZID=Asia/Tokyo:20240906T210000
DTSTAMP:20260424T051747
CREATED:20240818T021055Z
LAST-MODIFIED:20250406T004057Z
UID:10000028-1725649200-1725656400@ycac.jp
SUMMARY:YC&AC Sports 140th Party
DESCRIPTION:The YC&AC invites you to join this event to celebrate the 140th anniversary of the creation of our multi-sport club and the name YC&AC. The YC&AC introduced most of the leading western sports to Japan and basically acted like an incubator of Japanese teams and sportsmen in the Kanto area.\n140th Sport Party Menu\nCash Bar is Available.\nSorry registration for this event is now closed.
URL:https://ycac.jp/event/ycac-sports-140th-party
CATEGORIES:Club Events,Sports
END:VEVENT
BEGIN:VEVENT
DTSTART;TZID=Asia/Tokyo:20240803T173000
DTEND;TZID=Asia/Tokyo:20240804T210000
DTSTAMP:20260424T051747
CREATED:20240627T070654Z
LAST-MODIFIED:20240731T083031Z
UID:10000024-1722706200-1722805200@ycac.jp
SUMMARY:Bonodori Festival
DESCRIPTION:We are excited to announce the 45th Annual International Bonodori Festival is coming soon! \n\nDate: August 3 (Sat)  Start: 5:30pm Finish: 9:00pm\nDate: August 4 (Sun)  Start: 5:30pm Finish: 9:00pm\n\nJoin us for a magical celebration of Japanese culture\, food\, music\, and dance. \nThis beloved event brings our community together to enjoy Japan’s rich traditions. \nThanks to our volunteers\, sponsors\, and community members for their support. \nSpread the word\, invite friends and family\, and prepare your yukatas. \nThis event is open to all! We look forward to seeing you at the festival! \n  \n \n  \n*Mollison‘s restaurant will be open during the Bonodori Festival however please note that we will be offering a limited service during this time.  On both festival days\, from 4:00 PM until closing\, we will be serving drinks only. Our regular food menu will not be available during these hours.
URL:https://ycac.jp/event/bonodori-festival
CATEGORIES:Club Events
END:VEVENT
BEGIN:VEVENT
DTSTART;TZID=Asia/Tokyo:20240723T163000
DTEND;TZID=Asia/Tokyo:20240723T210000
DTSTAMP:20260424T051747
CREATED:20240717T030608Z
LAST-MODIFIED:20240722T012006Z
UID:10000026-1721752200-1721768400@ycac.jp
SUMMARY:International Rugby involving Shakespeare's School
DESCRIPTION:This might be an event that a few members would also like to watch.\nSchool will play two rugby matches starting at around 4:30.
URL:https://ycac.jp/event/international-rugby-involving-shakespeares-school
END:VEVENT
BEGIN:VEVENT
DTSTART;TZID=Asia/Tokyo:20240714T113000
DTEND;TZID=Asia/Tokyo:20240714T180000
DTSTAMP:20260424T051747
CREATED:20240703T063833Z
LAST-MODIFIED:20240703T063950Z
UID:10000025-1720956600-1720980000@ycac.jp
SUMMARY:Opening Ceremony Of The Refubrished Sports Pitch
DESCRIPTION:We are thrilled to announce the reopening of our newly refurbished sports pitch and would be delighted to have you join us for the celebration. Join us for the ribbon-cutting ceremony including special guest appearances. Enjoy refreshments\, entertainment\, and a chance to explore the new pitch that promises to enhance our community’s sports experience. \nRegister from the link below.
URL:https://ycac.jp/event/opening-ceremony-refubrished-sports-pitch
CATEGORIES:Club Events
END:VEVENT
BEGIN:VEVENT
DTSTART;TZID=Asia/Tokyo:20240713T180000
DTEND;TZID=Asia/Tokyo:20240713T180000
DTSTAMP:20260424T051747
CREATED:20240510T064638Z
LAST-MODIFIED:20240619T024121Z
UID:10000019-1720893600-1720893600@ycac.jp
SUMMARY:Flamenco Night
DESCRIPTION:Embrace the passion and rhythm of Flamenco!  \nJoin us for a mesmerizing Flamenco Night filled with soul-stirring music\, electrifying dance\, and unforgettable moments. \nLet the spirit of Spain ignite your senses! \nPlease register from the link below.
URL:https://ycac.jp/event/flamenco-night
CATEGORIES:Club Events
END:VEVENT
END:VCALENDAR