BEGIN:VCALENDAR
VERSION:2.0
PRODID:-//YC&amp;AC - YOKOHAMA COUNTRY &amp; ATHLETIC CLUB - ECPv6.15.20//NONSGML v1.0//EN
CALSCALE:GREGORIAN
METHOD:PUBLISH
X-ORIGINAL-URL:https://ycac.jp
X-WR-CALDESC:Events for YC&amp;AC - YOKOHAMA COUNTRY &amp; ATHLETIC CLUB
REFRESH-INTERVAL;VALUE=DURATION:PT1H
X-Robots-Tag:noindex
X-PUBLISHED-TTL:PT1H
BEGIN:VTIMEZONE
TZID:Asia/Tokyo
BEGIN:STANDARD
TZOFFSETFROM:+0900
TZOFFSETTO:+0900
TZNAME:JST
DTSTART:20250101T000000
END:STANDARD
END:VTIMEZONE
BEGIN:VEVENT
DTSTART;TZID=Asia/Tokyo:20260329T190000
DTEND;TZID=Asia/Tokyo:20260329T190000
DTSTAMP:20260424T192132
CREATED:20260206T031244Z
LAST-MODIFIED:20260206T032821Z
UID:10000073-1774810800-1774810800@ycac.jp
SUMMARY:Live Music by The Dublin
DESCRIPTION:Join us for a cozy\, festive evening as we welcome Santa Claus to the Club! Bring your family and enjoy a warm holiday celebration.\nBUFFET RESERVATION CLOSED 								\n					\n				\n		\n					\n				\n							Name *Email Address *Phone *Please Select *YC&AC MemberGuestPlease enter your YC&AC Membership number below *0 / 6Number of Adults1 Person2 People3 People4 People5 PeopleNumber of Children1 Child2 Children3 Children4 Children5 ChildrenGuest - Number of people in your groupAdultChildrenNumber of Adults1 Person2 People3 People4 People5 PeopleNumber of Children1 Child2 Children3 Children4 Children5 ChildrenTotal¥Credit Card Information *Online Payment will be done through Stripe.SUBMIT FORM
URL:https://ycac.jp/event/live-music-by-the-dublin
CATEGORIES:Club Events
ATTACH;FMTTYPE=image/jpeg:https://ycac.jp/wp-content/uploads/2026/02/Live-Muisc-by-The-Dublin.jpg
END:VEVENT
BEGIN:VEVENT
DTSTART;TZID=Asia/Tokyo:20260405T120000
DTEND;TZID=Asia/Tokyo:20260405T130000
DTSTAMP:20260424T192132
CREATED:20260227T075735Z
LAST-MODIFIED:20260404T034510Z
UID:10000051-1775390400-1775394000@ycac.jp
SUMMARY:Easter Egg Hunt
DESCRIPTION:Join us for a cozy\, festive evening as we welcome Santa Claus to the Club! Bring your family and enjoy a warm holiday celebration.\nBUFFET RESERVATION CLOSED 								\n					\n				\n		\n					\n				\n							Name *Email Address *Phone *Please Select *YC&AC MemberGuestPlease enter your YC&AC Membership number below *0 / 6Number of Adults1 Person2 People3 People4 People5 PeopleNumber of Children1 Child2 Children3 Children4 Children5 ChildrenGuest - Number of people in your groupAdultChildrenNumber of Adults1 Person2 People3 People4 People5 PeopleNumber of Children1 Child2 Children3 Children4 Children5 ChildrenTotal¥Credit Card Information *Online Payment will be done through Stripe.SUBMIT FORM
URL:https://ycac.jp/event/easter-egg-hunt-2026
CATEGORIES:Club Events
ATTACH;FMTTYPE=image/webp:https://ycac.jp/wp-content/uploads/2026/02/Easter-Egg-Hunt-April-5-Banner.webp
END:VEVENT
BEGIN:VEVENT
DTSTART;TZID=Asia/Tokyo:20260418T183000
DTEND;TZID=Asia/Tokyo:20260418T183000
DTSTAMP:20260424T192132
CREATED:20260209T055215Z
LAST-MODIFIED:20260413T050600Z
UID:10000049-1776537000-1776537000@ycac.jp
SUMMARY:Turkish Night
DESCRIPTION:Join us for a cozy\, festive evening as we welcome Santa Claus to the Club! Bring your family and enjoy a warm holiday celebration.\nBUFFET RESERVATION CLOSED 								\n					\n				\n		\n					\n				\n							Name *Email Address *Phone *Please Select *YC&AC MemberGuestPlease enter your YC&AC Membership number below *0 / 6Number of Adults1 Person2 People3 People4 People5 PeopleNumber of Children1 Child2 Children3 Children4 Children5 ChildrenGuest - Number of people in your groupAdultChildrenNumber of Adults1 Person2 People3 People4 People5 PeopleNumber of Children1 Child2 Children3 Children4 Children5 ChildrenTotal¥Credit Card Information *Online Payment will be done through Stripe.SUBMIT FORM
URL:https://ycac.jp/event/turkish-night-2026
CATEGORIES:Club Events
ATTACH;FMTTYPE=image/jpeg:https://ycac.jp/wp-content/uploads/2025/10/Turkish-Night-Banner.jpg
END:VEVENT
BEGIN:VEVENT
DTSTART;TZID=Asia/Tokyo:20260423T190000
DTEND;TZID=Asia/Tokyo:20260423T190000
DTSTAMP:20260424T192132
CREATED:20260311T023807Z
LAST-MODIFIED:20260314T012844Z
UID:10000037-1776970800-1776970800@ycac.jp
SUMMARY:History Talk
DESCRIPTION:Join us for a cozy\, festive evening as we welcome Santa Claus to the Club! Bring your family and enjoy a warm holiday celebration.\nBUFFET RESERVATION CLOSED 								\n					\n				\n		\n					\n				\n							Name *Email Address *Phone *Please Select *YC&AC MemberGuestPlease enter your YC&AC Membership number below *0 / 6Number of Adults1 Person2 People3 People4 People5 PeopleNumber of Children1 Child2 Children3 Children4 Children5 ChildrenGuest - Number of people in your groupAdultChildrenNumber of Adults1 Person2 People3 People4 People5 PeopleNumber of Children1 Child2 Children3 Children4 Children5 ChildrenTotal¥Credit Card Information *Online Payment will be done through Stripe.SUBMIT FORM
URL:https://ycac.jp/event/history-talk
CATEGORIES:Club Events
ATTACH;FMTTYPE=image/webp:https://ycac.jp/wp-content/uploads/2025/10/eucalypts-hodogaya-banner.webp
END:VEVENT
BEGIN:VEVENT
DTSTART;TZID=Asia/Tokyo:20260502T140000
DTEND;TZID=Asia/Tokyo:20260502T190000
DTSTAMP:20260424T192132
CREATED:20260408T013819Z
LAST-MODIFIED:20260418T020054Z
UID:10000057-1777730400-1777748400@ycac.jp
SUMMARY:Pool Opening Party
DESCRIPTION:Join us for a cozy\, festive evening as we welcome Santa Claus to the Club! Bring your family and enjoy a warm holiday celebration.\nBUFFET RESERVATION CLOSED 								\n					\n				\n		\n					\n				\n							Name *Email Address *Phone *Please Select *YC&AC MemberGuestPlease enter your YC&AC Membership number below *0 / 6Number of Adults1 Person2 People3 People4 People5 PeopleNumber of Children1 Child2 Children3 Children4 Children5 ChildrenGuest - Number of people in your groupAdultChildrenNumber of Adults1 Person2 People3 People4 People5 PeopleNumber of Children1 Child2 Children3 Children4 Children5 ChildrenTotal¥Credit Card Information *Online Payment will be done through Stripe.SUBMIT FORM
URL:https://ycac.jp/event/welcome-summer-party
CATEGORIES:Club Events
ATTACH;FMTTYPE=image/webp:https://ycac.jp/wp-content/uploads/2026/04/Pool-Opening-Party_May2-Banner-scaled.webp
END:VEVENT
BEGIN:VEVENT
DTSTART;TZID=Asia/Tokyo:20260627T180000
DTEND;TZID=Asia/Tokyo:20260627T180000
DTSTAMP:20260424T192132
CREATED:20260414T013721Z
LAST-MODIFIED:20260422T081458Z
UID:10000055-1782583200-1782583200@ycac.jp
SUMMARY:Hawaiian Night 2026
DESCRIPTION:Join us for a cozy\, festive evening as we welcome Santa Claus to the Club! Bring your family and enjoy a warm holiday celebration.\nBUFFET RESERVATION CLOSED 								\n					\n				\n		\n					\n				\n							Name *Email Address *Phone *Please Select *YC&AC MemberGuestPlease enter your YC&AC Membership number below *0 / 6Number of Adults1 Person2 People3 People4 People5 PeopleNumber of Children1 Child2 Children3 Children4 Children5 ChildrenGuest - Number of people in your groupAdultChildrenNumber of Adults1 Person2 People3 People4 People5 PeopleNumber of Children1 Child2 Children3 Children4 Children5 ChildrenTotal¥Credit Card Information *Online Payment will be done through Stripe.SUBMIT FORM
URL:https://ycac.jp/event/hawaiian-night-2026
CATEGORIES:Club Events
ATTACH;FMTTYPE=image/jpeg:https://ycac.jp/wp-content/uploads/2026/04/Hawaiian-Night_Jun27-Banner-scaled.jpg
END:VEVENT
END:VCALENDAR