BEGIN:VCALENDAR
VERSION:2.0
PRODID:-//YC&amp;AC - YOKOHAMA COUNTRY &amp; ATHLETIC CLUB - ECPv6.15.20//NONSGML v1.0//EN
CALSCALE:GREGORIAN
METHOD:PUBLISH
X-ORIGINAL-URL:https://ycac.jp
X-WR-CALDESC:Events for YC&amp;AC - YOKOHAMA COUNTRY &amp; ATHLETIC CLUB
REFRESH-INTERVAL;VALUE=DURATION:PT1H
X-Robots-Tag:noindex
X-PUBLISHED-TTL:PT1H
BEGIN:VTIMEZONE
TZID:Asia/Tokyo
BEGIN:STANDARD
TZOFFSETFROM:+0900
TZOFFSETTO:+0900
TZNAME:JST
DTSTART:20250101T000000
END:STANDARD
END:VTIMEZONE
BEGIN:VEVENT
DTSTART;TZID=Asia/Tokyo:20260627T180000
DTEND;TZID=Asia/Tokyo:20260627T180000
DTSTAMP:20260424T080549
CREATED:20260414T013721Z
LAST-MODIFIED:20260422T081458Z
UID:10000055-1782583200-1782583200@ycac.jp
SUMMARY:Hawaiian Night 2026
DESCRIPTION:Join us for an unforgettable Hawaiian Night featuring a live hula dance performance by HUI MOANIANI.\n \nExperience the enchanting rhythms of Hawaii\, enjoy delicious island-inspired cuisine\, and immerse yourself in the tropical atmosphere.\n \nWe can’t wait to share this special night with you.\n \nPlease fill the form below to RSVP.\n  \nName *Email Address *Phone *Please Select *YC&AC MemberGuestPlease enter your YC&AC Membership number below *0 / 6Number of people in your groupAdultChildrenNumber of Adults1 Person2 People3 People4 People5 PeopleNumber of Children1 Child2 Children3 Children4 Children5 ChildrenGuest - Number of people in your groupAdultChildrenNumber of Adults1 Person2 People3 People4 People5 PeopleNumber of Children1 Child2 Children3 Children4 Children5 ChildrenTotal¥Online Payment will be done through Stripe. *RESERVE NOW
URL:https://ycac.jp/event/hawaiian-night-2026
CATEGORIES:Club Events
ATTACH;FMTTYPE=image/jpeg:https://ycac.jp/wp-content/uploads/2026/04/Hawaiian-Night_Jun27-Banner-scaled.jpg
END:VEVENT
END:VCALENDAR